View In:
ArcGIS JavaScript
ArcGIS Online Map Viewer
ArcGIS Earth
Service Description: Unit_Conversion_RASTER2_P_tif
Name: Unit_Conversion_RASTER2_P_tif
Description:
Single Fused Map Cache: true
Tile Info:
- Height: 256
- Width: 256
- DPI: 96
-
Levels of Detail: 24
-
Level ID: 0
[ Start Tile, End Tile ]
- Resolution: 938198.981998994
- Scale: 1.080807388877619E9
-
Level ID: 1
[ Start Tile, End Tile ]
- Resolution: 469099.490999497
- Scale: 5.404036944388095E8
-
Level ID: 2
[ Start Tile, End Tile ]
- Resolution: 234549.7454997485
- Scale: 2.7020184721940476E8
-
Level ID: 3
[ Start Tile, End Tile ]
- Resolution: 117274.87274987425
- Scale: 1.3510092360970238E8
-
Level ID: 4
[ Start Tile, End Tile ]
- Resolution: 58637.436374937126
- Scale: 6.755046180485119E7
-
Level ID: 5
[ Start Tile, End Tile ]
- Resolution: 29318.718187468563
- Scale: 3.3775230902425595E7
-
Level ID: 6
[ Start Tile, End Tile ]
- Resolution: 14659.359093734281
- Scale: 1.6887615451212797E7
-
Level ID: 7
[ Start Tile, End Tile ]
- Resolution: 7329.679546867141
- Scale: 8443807.725606399
-
Level ID: 8
[ Start Tile, End Tile ]
- Resolution: 3664.8397734335704
- Scale: 4221903.862803199
-
Level ID: 9
[ Start Tile, End Tile ]
- Resolution: 1832.4198867167852
- Scale: 2110951.9314015997
-
Level ID: 10
[ Start Tile, End Tile ]
- Resolution: 916.2099433583926
- Scale: 1055475.9657007998
-
Level ID: 11
[ Start Tile, End Tile ]
- Resolution: 458.1049716791963
- Scale: 527737.9828503999
-
Level ID: 12
[ Start Tile, End Tile ]
- Resolution: 229.05248583959815
- Scale: 263868.99142519996
-
Level ID: 13
[ Start Tile, End Tile ]
- Resolution: 114.52624291979907
- Scale: 131934.49571259998
-
Level ID: 14
[ Start Tile, End Tile ]
- Resolution: 57.26312145989954
- Scale: 65967.24785629999
-
Level ID: 15
[ Start Tile, End Tile ]
- Resolution: 28.63156072994977
- Scale: 32983.623928149995
-
Level ID: 16
[ Start Tile, End Tile ]
- Resolution: 14.315780364974884
- Scale: 16491.811964074997
-
Level ID: 17
[ Start Tile, End Tile ]
- Resolution: 7.157890182487442
- Scale: 8245.905982037499
-
Level ID: 18
[ Start Tile, End Tile ]
- Resolution: 3.578945091243721
- Scale: 4122.952991018749
-
Level ID: 19
[ Start Tile, End Tile ]
- Resolution: 1.7894725456218605
- Scale: 2061.4764955093747
-
Level ID: 20
[ Start Tile, End Tile ]
- Resolution: 0.8947362728109303
- Scale: 1030.7382477546873
-
Level ID: 21
[ Start Tile, End Tile ]
- Resolution: 0.44736813640546513
- Scale: 515.3691238773437
-
Level ID: 22
[ Start Tile, End Tile ]
- Resolution: 0.22368406820273257
- Scale: 257.68456193867183
-
Level ID: 23
[ Start Tile, End Tile ]
- Resolution: 0.11184203410136628
- Scale: 128.84228096933592
- Format: LERC
- Compression Quality: 0.0
- LERC Error: 0.05
- Origin: X: -1.1812096969587123E8
Y: 1.1601305483767672E8
- Spatial Reference: 103191
(6609)
VCSWkid(105703)
LatestVCSWkid(6360)
Storage Info:
- Storage Format: esriMapCacheStorageModeCompactV2
- Packet Size: 128
Extent:
XMin: 2278899.0827291626
YMin: 163220.20058852318
XMax: 2604195.768279732
YMax: 589099.1816455215
Spatial Reference: 103191
(6609)
LatestVCSWkid(0)
Initial Extent:
XMin: 2278899.0827291626
YMin: 163220.20058852318
XMax: 2604195.768279732
YMax: 589099.1816455215
Spatial Reference: 103191
(6609)
LatestVCSWkid(0)
Full Extent:
XMin: 2278899.0827291626
YMin: 163220.20058852318
XMax: 2604195.768279732
YMax: 589099.1816455215
Spatial Reference: 103191
(6609)
LatestVCSWkid(0)
Pixel Size X: 10.406163965149378
Pixel Size Y: 10.146981988920883
Band Count: 1
Pixel Type: F64
RasterFunction Infos: {"rasterFunctionInfos": [{
"name": "None",
"description": "",
"help": ""
}]}
Mensuration Capabilities: Basic
Inspection Capabilities:
Has Histograms: true
Has Colormap: false
Has Multi Dimensions : false
Rendering Rule:
Min Scale: 1.080807388877619E9
Max Scale: 32983.623928149995
Min LOD: 0
Max LOD: 15
Copyright Text:
Service Data Type: esriImageServiceDataTypeGeneric
Min Values: -9987.4015748032
Max Values: 413.67459111871
Mean Values: 60.633644494259
Standard Deviation Values: 931.6163710745
Object ID Field:
Fields:
None
Default Mosaic Method: Center
Allowed Mosaic Methods:
SortField:
SortValue: null
Mosaic Operator: First
Default Compression Quality: 75
Default Resampling Method: Bilinear
Max Record Count: null
Max Image Height: 4100
Max Image Width: 15000
Max Download Image Count: null
Max Mosaic Image Count: null
Allow Raster Function: true
Allow Copy: true
Allow Analysis: true
Allow Compute TiePoints: false
Supports Statistics: false
Supports Advanced Queries: false
Use StandardizedQueries: true
Raster Type Infos:
Name: Raster Dataset
Description: Supports all ArcGIS Raster Datasets
Help:
Has Raster Attribute Table: false
Edit Fields Info: null
Ownership Based AccessControl For Rasters: null
Child Resources:
Info
Histograms
Statistics
Key Properties
Legend
Raster Function Infos
Supported Operations:
Export Image
Identify
Measure
Compute Histograms
Compute Statistics Histograms
Get Samples
Compute Class Statistics
Query Boundary
Compute Pixel Location
Compute Angles
Validate
Project