{
 "currentVersion": 11.5,
 "serviceDescription": "Unit_Conversion_RASTER2_P_tif",
 "serviceItemId": "edb381c7f2824f0d98fede9fa4983e25",
 "name": "Unit_Conversion_RASTER2_P_tif",
 "description": "",
 "extent": {
  "xmin": 2278899.0827291626,
  "ymin": 163220.20058852318,
  "xmax": 2604195.768279732,
  "ymax": 589099.1816455215,
  "spatialReference": {
   "wkid": 103191,
   "latestWkid": 6609
  }
 },
 "initialExtent": {
  "xmin": 2278899.0827291626,
  "ymin": 163220.20058852318,
  "xmax": 2604195.768279732,
  "ymax": 589099.1816455215,
  "spatialReference": {
   "wkid": 103191,
   "latestWkid": 6609
  }
 },
 "fullExtent": {
  "xmin": 2278899.0827291626,
  "ymin": 163220.20058852318,
  "xmax": 2604195.768279732,
  "ymax": 589099.1816455215,
  "spatialReference": {
   "wkid": 103191,
   "latestWkid": 6609
  }
 },
 "sortableFields": "",
 "bandCount": 1,
 "pixelType": "F64",
 "minValues": [
  -9987.4015748032
 ],
 "maxValues": [
  413.67459111871
 ],
 "meanValues": [
  60.633644494259
 ],
 "stdvValues": [
  931.6163710745
 ],
 "serviceProperties": "Center<\/MosaicMethod>First<\/MosaicOperator>true<\/SortAscending><\/LockImageID><\/TileOrderField>0<\/TileOrderBase>0.000000<\/AvgImageSpacingX>0.000000<\/AvgImageSpacingY>0.0<\/ViewPointX>0.0<\/ViewPointY>0.0<\/ViewPointDefShiftX>0.0<\/ViewPointDefShiftY>None<\/CompressionMethod>75<\/CompressionQuality>0.100000<\/CompressionTolerance>Bilinear<\/SamplingMethod><\/ImageServiceProperties><\/ImageServer>",
 "allowedFields": "",
 "hasMultidimensions": false,
 "pixelSizeX": 10.406163965149378,
 "pixelSizeY": 10.146981988920883,
 "meanPixelSize": 3.132305708011724,
 "datasetFormat": "TIFF",
 "uncompressedSize": 10496107680,
 "blockWidth": 128,
 "blockHeight": 128,
 "compressionType": "None",
 "bandNames": [
  "Band_1"
 ],
 "allowCopy": true,
 "allowAnalysis": true,
 "itemAccess": false,
 "inspectionCapabilities": "",
 "minPixelSize": 28.63156072994977,
 "maxPixelSize": 938198.981998994,
 "copyrightText": "",
 "serviceDataType": "esriImageServiceDataTypeGeneric",
 "serviceSourceType": "esriImageServiceSourceTypeDataset",
 "objectIdField": "",
 "fields": [],
 "capabilities": "Image,Metadata,Mensuration,TileMap",
 "defaultMosaicMethod": "Center",
 "allowedMosaicMethods": "",
 "sortField": "",
 "sortValue": null,
 "sortAscending": true,
 "mosaicOperator": "First",
 "defaultCompressionQuality": 75,
 "defaultResamplingMethod": "Bilinear",
 "maxImageHeight": 4100,
 "maxImageWidth": 15000,
 "singleFusedMapCache": true,
 "tileInfo": {
  "rows": 256,
  "cols": 256,
  "dpi": 96,
  "format": "LERC",
  "compressionQuality": 0,
  "lercError": 0.05,
  "origin": {
   "x": -1.1812096969587123E8,
   "y": 1.1601305483767672E8
  },
  "spatialReference": {
   "wkid": 103191,
   "latestWkid": 6609,
   "vcsWkid": 105703,
   "latestVcsWkid": 6360
  },
  "lods": [
   {
    "level": 0,
    "resolution": 938198.981998994,
    "scale": 1.080807388877619E9
   },
   {
    "level": 1,
    "resolution": 469099.490999497,
    "scale": 5.404036944388095E8
   },
   {
    "level": 2,
    "resolution": 234549.7454997485,
    "scale": 2.7020184721940476E8
   },
   {
    "level": 3,
    "resolution": 117274.87274987425,
    "scale": 1.3510092360970238E8
   },
   {
    "level": 4,
    "resolution": 58637.436374937126,
    "scale": 6.755046180485119E7
   },
   {
    "level": 5,
    "resolution": 29318.718187468563,
    "scale": 3.3775230902425595E7
   },
   {
    "level": 6,
    "resolution": 14659.359093734281,
    "scale": 1.6887615451212797E7
   },
   {
    "level": 7,
    "resolution": 7329.679546867141,
    "scale": 8443807.725606399
   },
   {
    "level": 8,
    "resolution": 3664.8397734335704,
    "scale": 4221903.862803199
   },
   {
    "level": 9,
    "resolution": 1832.4198867167852,
    "scale": 2110951.9314015997
   },
   {
    "level": 10,
    "resolution": 916.2099433583926,
    "scale": 1055475.9657007998
   },
   {
    "level": 11,
    "resolution": 458.1049716791963,
    "scale": 527737.9828503999
   },
   {
    "level": 12,
    "resolution": 229.05248583959815,
    "scale": 263868.99142519996
   },
   {
    "level": 13,
    "resolution": 114.52624291979907,
    "scale": 131934.49571259998
   },
   {
    "level": 14,
    "resolution": 57.26312145989954,
    "scale": 65967.24785629999
   },
   {
    "level": 15,
    "resolution": 28.63156072994977,
    "scale": 32983.623928149995
   },
   {
    "level": 16,
    "resolution": 14.315780364974884,
    "scale": 16491.811964074997
   },
   {
    "level": 17,
    "resolution": 7.157890182487442,
    "scale": 8245.905982037499
   },
   {
    "level": 18,
    "resolution": 3.578945091243721,
    "scale": 4122.952991018749
   },
   {
    "level": 19,
    "resolution": 1.7894725456218605,
    "scale": 2061.4764955093747
   },
   {
    "level": 20,
    "resolution": 0.8947362728109303,
    "scale": 1030.7382477546873
   },
   {
    "level": 21,
    "resolution": 0.44736813640546513,
    "scale": 515.3691238773437
   },
   {
    "level": 22,
    "resolution": 0.22368406820273257,
    "scale": 257.68456193867183
   },
   {
    "level": 23,
    "resolution": 0.11184203410136628,
    "scale": 128.84228096933592
   }
  ]
 },
 "storageInfo": {
  "storageFormat": "esriMapCacheStorageModeCompactV2",
  "packetSize": 128
 },
 "cacheType": "Elevation",
 "allowRasterFunction": true,
 "rasterFunctionInfos": [
  {
   "name": "None",
   "description": "",
   "help": ""
  }
 ],
 "rasterTypeInfos": [
  {
   "name": "Raster Dataset",
   "description": "Supports all ArcGIS Raster Datasets",
   "help": ""
  }
 ],
 "mensurationCapabilities": "Basic",
 "hasHistograms": true,
 "hasColormap": false,
 "hasRasterAttributeTable": false,
 "minScale": 1.080807388877619E9,
 "maxScale": 32983.623928149995,
 "minLOD": 0,
 "maxLOD": 15,
 "exportTilesAllowed": false,
 "supportsStatistics": false,
 "supportsAdvancedQueries": false,
 "editFieldsInfo": null,
 "ownershipBasedAccessControlForRasters": null,
 "allowComputeTiePoints": false,
 "useStandardizedQueries": true,
 "advancedQueryCapabilities": {
  "useStandardizedQueries": true,
  "supportsStatistics": false,
  "supportsOrderBy": false,
  "supportsDistinct": false,
  "supportsPagination": false
 },
 "spatialReference": {
  "wkid": 103191,
  "latestWkid": 6609
 }
}
